BEGIN:VCALENDAR
VERSION:2.0
PRODID:-//yoik - ECPv6.15.20//NONSGML v1.0//EN
CALSCALE:GREGORIAN
METHOD:PUBLISH
X-WR-CALNAME:yoik
X-ORIGINAL-URL:https://yoik.eu
X-WR-CALDESC:Veranstaltungen für yoik
REFRESH-INTERVAL;VALUE=DURATION:PT1H
X-Robots-Tag:noindex
X-PUBLISHED-TTL:PT1H
BEGIN:VTIMEZONE
TZID:UTC
BEGIN:STANDARD
TZOFFSETFROM:+0000
TZOFFSETTO:+0000
TZNAME:UTC
DTSTART:20230101T000000
END:STANDARD
END:VTIMEZONE
BEGIN:VTIMEZONE
TZID:Europe/Berlin
BEGIN:DAYLIGHT
TZOFFSETFROM:+0100
TZOFFSETTO:+0200
TZNAME:CEST
DTSTART:20230326T010000
END:DAYLIGHT
BEGIN:STANDARD
TZOFFSETFROM:+0200
TZOFFSETTO:+0100
TZNAME:CET
DTSTART:20231029T010000
END:STANDARD
BEGIN:DAYLIGHT
TZOFFSETFROM:+0100
TZOFFSETTO:+0200
TZNAME:CEST
DTSTART:20240331T010000
END:DAYLIGHT
BEGIN:STANDARD
TZOFFSETFROM:+0200
TZOFFSETTO:+0100
TZNAME:CET
DTSTART:20241027T010000
END:STANDARD
BEGIN:DAYLIGHT
TZOFFSETFROM:+0100
TZOFFSETTO:+0200
TZNAME:CEST
DTSTART:20250330T010000
END:DAYLIGHT
BEGIN:STANDARD
TZOFFSETFROM:+0200
TZOFFSETTO:+0100
TZNAME:CET
DTSTART:20251026T010000
END:STANDARD
END:VTIMEZONE
BEGIN:VEVENT
DTSTART;TZID=UTC:20241118T200000
DTEND;TZID=UTC:20241118T213000
DTSTAMP:20260424T153403
CREATED:20240923T194221Z
LAST-MODIFIED:20240923T194221Z
UID:1123-1731960000-1731965400@yoik.eu
SUMMARY:Konfliktsprechstunde 18.11.2024 um 20 Uhr
DESCRIPTION:Konfliktcoaching online durch einen oder mehrere Yoik-Berater:innen. \nJeannette Hemmecke (yoik.eu) lädt Sie zu einem geplanten Zoom-Meeting ein. \nThema: Konfliktsprechstunde 18.11.2024 um 20 Uhr – Zoom Meeting von Jeannette Hemmecke (yoik.eu)\nZeit: 18.Nov. 2024 08:00 PM Amsterdam\, Berlin\, Rom\, Stockholm\, Wien \nBeitreten Zoom Meeting\nhttps://us06web.zoom.us/j/82557107619?pwd=xuJ2Le22SiCExAQO5cXNd9RiguAbP9.1 \nMeeting-ID: 825 5710 7619\nKenncode: 238142 \n 
URL:https://yoik.eu/event/konfliktsprechstunde-18-11-2024-um-20-uhr/
LOCATION:Online per „Zoom“
ATTACH;FMTTYPE=image/jpeg:https://yoik.eu/wp-content/uploads/2024/04/Konfliktsprechstunde1l.jpg
ORGANIZER;CN="Yoik":MAILTO:office@yoik.eu
END:VEVENT
BEGIN:VEVENT
DTSTART;TZID=UTC:20241021T200000
DTEND;TZID=UTC:20241021T213000
DTSTAMP:20260424T153403
CREATED:20240923T193411Z
LAST-MODIFIED:20240923T193511Z
UID:1121-1729540800-1729546200@yoik.eu
SUMMARY:Konfliktsprechstunde 21.10.2024 um 20 Uhr
DESCRIPTION:Jeannette Hemmecke (yoik.eu) lädt Sie zu einem geplanten Zoom-Meeting ein. \nThema: Konfliktsprechstunde 21.10.2024 um 20 Uhr – Zoom Meeting von Jeannette Hemmecke (yoik.eu)\nZeit: 21.Okt. 2024 08:00 PM Amsterdam\, Berlin\, Rom\, Stockholm\, Wien \nBeitreten Zoom Meeting\nhttps://us06web.zoom.us/j/85314122056?pwd=brXc6DYtIAjEFRC04biqQY4J94g6En.1 \nMeeting-ID: 853 1412 2056\nKenncode: 420874 \n 
URL:https://yoik.eu/event/konfliktsprechstunde-21-10-2024-um-20-uhr/
LOCATION:Online per „Zoom“
ATTACH;FMTTYPE=image/jpeg:https://yoik.eu/wp-content/uploads/2021/12/Annaeherung-1.jpg
ORGANIZER;CN="Yoik":MAILTO:office@yoik.eu
END:VEVENT
BEGIN:VEVENT
DTSTART;TZID=UTC:20240923T200000
DTEND;TZID=UTC:20240923T213000
DTSTAMP:20260424T153403
CREATED:20240923T123306Z
LAST-MODIFIED:20240923T194424Z
UID:1118-1727121600-1727127000@yoik.eu
SUMMARY:Konfliktsprechstunde 23.9.2024 von 20 bis 21:30 Uhr
DESCRIPTION:Kostenlos\, aber nicht umsonst! \nVertrauliches Online-Konfliktcoaching für einen Schritt hin zu einer Konfliktlösung mit yoik.eu. \n3 parallele Sessions möglich. \n\nJeannette Hemmecke (yoik.eu) lädt Sie zu einem geplanten Zoom-Meeting ein. \nThema: Online-Konfliktsprechstunde 23.9.2024 – Zoom Meeting von Jeannette Hemmecke (yoik.eu)\nZeit: 23.Sept. 2024 08:00 PM Amsterdam\, Berlin\, Rom\, Stockholm\, Wien \nBeitreten Zoom Meeting \nLink deaktiviert \n\n 
URL:https://yoik.eu/event/konfliktsprechstunde-23-9-2024-von-20-bis-2130-uhr/
LOCATION:Online per „Zoom“
ATTACH;FMTTYPE=image/jpeg:https://yoik.eu/wp-content/uploads/2024/01/Tastatur_klein.jpg
ORGANIZER;CN="Yoik":MAILTO:office@yoik.eu
END:VEVENT
BEGIN:VEVENT
DTSTART;TZID=UTC:20240708T200000
DTEND;TZID=UTC:20240708T213000
DTSTAMP:20260424T153403
CREATED:20240403T100750Z
LAST-MODIFIED:20240923T194458Z
UID:1088-1720468800-1720474200@yoik.eu
SUMMARY:Konfliktsprechstunde am 8.7.2024 von 20 bis 21:30 Uhr
DESCRIPTION:Einladung zur 4. Konflikt-Sprechstunde von YOIK am 8. Juli 2024 20 Uhr \nThema: 4. Konfliktsprechstunde – Zoom Meeting von yoik.eu\nZeit: 8.Juli 2024 08:00 PM Amsterdam\, Berlin\, Rom\, Stockholm\, Wien \nBeitreten Zoom Meeting \nLink deaktiviert (Termin vergangen) \nJede:r mit einem kleinen oder größeren Konflikt kann teilnehmen und bekommt eine professionelle kostenlose Erstberatung! Keine Anmeldung notwendig! \nMögliche Beratungssprachen: Deutsch\, Niederländisch\, Englisch. \n 
URL:https://yoik.eu/event/konfliktsprechstunde-am-8-7-2024-von-20-bis-2130-uhr/
LOCATION:Online per „Zoom“
ORGANIZER;CN="Yoik":MAILTO:office@yoik.eu
END:VEVENT
BEGIN:VEVENT
DTSTART;TZID=UTC:20240610T200000
DTEND;TZID=UTC:20240610T213000
DTSTAMP:20260424T153403
CREATED:20240403T100655Z
LAST-MODIFIED:20240923T194650Z
UID:1086-1718049600-1718055000@yoik.eu
SUMMARY:Konfliktsprechstunde am 10.6.2024 von 20 bis 21:30 Uhr
DESCRIPTION:Einladung zur 3. Konfliktsprechstunde von YOIK \nThema: 3. Konfliktsprechstunde von YOIK\nZeit: 10.Juni 2024 08:00 PM Wien \nBeitreten Zoom Meeting \nLink deaktiviert (Termin vergangen) \nKeine Anmeldung notwendig! \nJede:r mit einem kleinen oder größeren Konflikt kann teilnehmen und bekommt eine kostenlose Erstberatung! \nMögliche Beratungssprachen: Deutsch\, Niederländisch\, Englisch.
URL:https://yoik.eu/event/konfliktsprechstunde-am-10-6-2024-von-20-bis-2130-uhr/
LOCATION:Online per „Zoom“
CATEGORIES:Online-Workshop
ATTACH;FMTTYPE=image/jpeg:https://yoik.eu/wp-content/uploads/2024/04/Konfliktsprechstunde1l.jpg
ORGANIZER;CN="Yoik":MAILTO:office@yoik.eu
END:VEVENT
BEGIN:VEVENT
DTSTART;TZID=UTC:20240513T200000
DTEND;TZID=UTC:20240513T213000
DTSTAMP:20260424T153403
CREATED:20240403T100543Z
LAST-MODIFIED:20240923T194740Z
UID:1084-1715630400-1715635800@yoik.eu
SUMMARY:Konfliktsprechstunde am 13.5.2024 von 20 bis 21:30 Uhr
DESCRIPTION:Konflikt-Sprechstunde \nLearning aus der 1. Konflikt-Sprechstunde: Kein Konflikt ist zu klein und unbedeutend für ein hilfreiches Konfliktcoaching! \nHeute können bis zu 2 Personen in einem vertraulichen Rahmen gecoacht werden. Jede und jeder\, der oder die selbst mitten in einem Konflikt steckt\, kann zu unserer Sprechstunde kommen auf der Suche nach Entlastung\, Perspektivwechsel und Lösungsfindung. Einfach um 20 Uhr oder kurz vorher einwählen. \nWir beraten die Person in Form eines strukturierten Konfliktcoachings. \nZoom-Einladung \nYoik.eu lädt Sie zu einem geplanten Zoom-Meeting ein. \nThema: 2. Konflikt-Sprechstunde\nZeit: 13.Mai 2024 08:00 PM Amsterdam\, Berlin\, Rom\, Stockholm\, Wien \nBeitreten Zoom Meeting \nLink deaktiviert (Termin vergangen) \nTechnische Sicherheitssmaßnahmen: für jede Konfliktsprechstunde wird ein neuer Link erstellt\, Zoom-Meeting mit Warteraum (bitte daher pünktlich um 20 Uhr oder kurz vorher einwählen\, denn wenn wir bereits in einem Coachingprozess sind\, lassen wir niemanden mehr ein) \nVertraulichkeit: Wir zeichnen nichts auf\, sammeln keine Daten\, geben keine Daten an irgendwen weiter. Sie entscheiden\, was Sie uns erzählen. Wir gehen vertrauensvoll damit um. \nDatenschutz: mehr dazu\, welche Daten wir verwenden\, wenn wir uns unter Zuhilfenahme des  Onlinemeeting-Tools Zoom treffen und welche spezifischen Maßnahmen wir für die Sicherheit Ihrer Daten gesetzt haben (z.B. haben wir unsere Zoom-Konfiguration so vorgenommen\, dass nur Rechenzentren in der EU Verwendung finden)\, finden Sie unter: https://yoik.eu/datenschutz/ \n 
URL:https://yoik.eu/event/konfliktsprechstunde-am-13-5-2024-von-20-bis-2130-uhr/
LOCATION:Online per „Zoom“
ATTACH;FMTTYPE=image/jpeg:https://yoik.eu/wp-content/uploads/2024/04/Konfliktsprechstunde1l.jpg
ORGANIZER;CN="Yoik":MAILTO:office@yoik.eu
END:VEVENT
BEGIN:VEVENT
DTSTART;TZID=UTC:20240415T200000
DTEND;TZID=UTC:20240415T213000
DTSTAMP:20260424T153403
CREATED:20240403T085315Z
LAST-MODIFIED:20240923T194953Z
UID:1080-1713211200-1713216600@yoik.eu
SUMMARY:Konfliktsprechstunde am 15.4.2024 von 20 bis 21:30 Uhr
DESCRIPTION:Einmal im Monat bieten wir montags um 20 Uhr ehrenamtlich eine Konfliktsprechstunde an – für bis zu drei Personen in einem vertraulichen Rahmen. Jede und jeder\, der oder die selbst mitten in einem Konflikt steckt\, kann zu unserer Sprechstunde auf der Suche nach Entlastung\, Perspektivwechsel und Lösungsfindung kommen. \nWir beraten die Person in Form eines strukturierten Konfliktcoachings. Das Ziel des Konfliktcoachings ist es\, sich aus den mit jedem Konflikt einhergehenden Erstarrungen zu lösen\, wieder Klarheit und Ordnung in die eigenen Gefühle und Gedanken zu kriegen und Ideen zu sammeln\, wie Auswege aus der Situation aussehen könnten. \nDie Geschichte dahinter: Unsere Konfliktsprechstunde entstand durch eine Geschichte\, die unser Lehrer\, der österreichische Friedens- und Konfliktexperte Fritz Glasl\, uns einmal erzählt hat: Die Geschichte von einem Café in einem Dorf\, in das sich ein Mediator einmal im Monat an einen der freien Tische gesetzt und ein kleines Schild mit der Einladung aufgestellt hat\, sich zu ihm zu setzen\, wenn man gerade in einen Konflikt verstrickt ist und wieder mehr Klarheit braucht. Unsere Konfliktsprechstunde ist quasi so zwei oder drei Tische in einem virtuellen Café\, an dem jeweils eine Mediatorin oder ein Mediator von Yoik sitzt. \nZoom-Einladung \nTechnische Sicherheitssmaßnahmen: für jede Konfliktsprechstunde wird ein neuer Link erstellt\, Zoom-Meeting mit Warteraum (bitte daher pünktlich um 20 Uhr oder kurz vorher einwählen\, denn wenn wir bereits in einem Coachingprozess sind\, lassen wir niemanden mehr ein) \nVertraulichkeit: Wir zeichnen nichts auf\, sammeln keine Daten\, geben keine Daten an irgendwen weiter. Sie entscheiden\, was Sie uns erzählen. Wir gehen vertrauensvoll damit um. \nDatenschutz: mehr dazu\, welche Daten wir verwenden\, wenn wir uns unter Zuhilfenahme des  Onlinemeeting-Tools Zoom treffen und welche spezifischen Maßnahmen wir für die Sicherheit Ihrer Daten gesetzt haben (z.B. haben wir unsere Zoom-Konfiguration so vorgenommen\, dass nur Rechenzentren in der EU Verwendung finden)\, finden Sie unter: https://yoik.eu/datenschutz/ \nYoik.eu lädt Sie zu einem geplanten Zoom-Meeting ein. \nThema: Konfliktsprechstunde Mo\, 15.4.24 von 20-21:30 Uhr – Zoom Meeting von yoik.eu\nZeit: 15.Apr. 2024 08:00 PM Amsterdam\, Berlin\, Rom\, Stockholm\, Wien \nBeitreten Zoom Meeting \nLink deaktiviert (Termin vergangen)
URL:https://yoik.eu/event/konfliktsprechstunde-am-15-4-2024-von-20-bis-2130-uhr/
LOCATION:Online per „Zoom“
ATTACH;FMTTYPE=image/jpeg:https://yoik.eu/wp-content/uploads/2024/04/Konfliktsprechstunde2l.jpg
ORGANIZER;CN="Yoik":MAILTO:office@yoik.eu
END:VEVENT
BEGIN:VEVENT
DTSTART;TZID=Europe/Berlin:20240208T183000
DTEND;TZID=Europe/Berlin:20240208T203000
DTSTAMP:20260424T153403
CREATED:20240122T100625Z
LAST-MODIFIED:20240122T223058Z
UID:995-1707417000-1707424200@yoik.eu
SUMMARY:Online-Workshop „Konstruktive Fehlerkultur“
DESCRIPTION:Seien Sie dabei! Am 8. Februar 2024 um 18:30-20:00 Uhr (Ausklang bis 20:30 Uhr) veranstalten wir\, das Berater*innennetzwerk yoik\, unseren öffentlichen Online-Workshop „Konstruktive Fehlerkultur als Werkzeug der Konfliktprävention“ via Zoom. \n\n\n\nWas Sie erwartet\n\n\n\nEin Kaledoskop verschiedener Blickwinkel auf Resilienz und Konfliktprävention: Umgang mit Urteilen und Fehlern\, ein Erfahrungsbericht aus einer Organisation\, ein konfliktpsychologisches Handlungsmodell\, praktische Methoden\, Selbstreflexion und interaktive Elemente. \n\n\n\n\nMerijn van Driesten: Auf dem Weg von einem Fixed zu einem Growth-Mindset – die Perspektive eines Musikers.\n\n\n\nBirthe Zimmermann: Lessons Learned – ein Bericht aus der Praxis – die Perspektive einer agilen Projektmanagerin.\n\n\n\nJeannette Hemmecke: Haben wir den Konflikt oder hat der Konflikt uns? – die Perspektive einer Organisationspsychologin.\n\n\n\n\nDer Workshop ist etwas für Sie:\n\n\n\n\nwenn Sie Teamleiter oder Abteilungsleiterin\, Mitarbeitende in Stabsstellen wie Personal-\, Organisationsentwicklung/Organisationales Lernen oder Supervisor/Organisationsberaterin oder Kunstschaffende\, Vereinsverantwortliche\, Schulleiter oder Institutsleiterin sind oder all das nicht\, aber interessiert und\n\n\n\nwenn Sie Lust auf Selbstreflexion\, Austausch\, Interaktion und vielfältige\, vielleicht auch ungewohnte Perspektiven haben.\n\n\n\n\nWir freuen uns auf einen interessanten Abend\, auf den Austausch mit Ihnen und auf nette Gespräche an der virtuellen Bar! \nBitte melden Sie sich bei Interesse hier bis 7. Februar 2024 an\, dann senden wir Ihnen die Zugangsdaten an die von Ihnen angegebene E-Mail-Adresse zu: \nBitte aktiviere JavaScript in deinem Browser\, um dieses Formular fertigzustellen.Bitte aktiviere JavaScript in deinem Browser\, um dieses Formular fertigzustellen.Name *VornameNachnameEmail *Anmelden  \n\n\n\nWenn Sie noch Fragen haben\, wenden Sie sich gern an office@yoik.eu. Näheres zum Datenschutz finden Sie unter: https://yoik.eu/datenschutz. \nIhr yoik-Team: Birthe Zimmermann\, Merijn van Driesten und Jeannette Hemmecke
URL:https://yoik.eu/event/online-workshop-konstruktive-fehlerkultur/
LOCATION:Online per „Zoom“
CATEGORIES:Online-Workshop
ATTACH;FMTTYPE=image/jpeg:https://yoik.eu/wp-content/uploads/2021/12/Streit.jpg
ORGANIZER;CN="Yoik":MAILTO:office@yoik.eu
END:VEVENT
END:VCALENDAR